BEGIN:VCALENDAR
VERSION:2.0
PRODID:-//Cro//NONSGML Cro//EN
METHOD:PUBLISH
BEGIN:VEVENT
UID:20260421T081632Z-1350549886-www.cro.de
URL:https://www.cro.de/dates/cro-dates-162024-lu-dudelange-usina--10--94-.html
DTSTAMP:20260421T081632Z
DTSTART:20240601T180000Z
DTEND:20240601T180000Z
SUMMARY:CRO | Dates | 1.6.2024 (LU) DUDELANGE\, USINA FESTIVAL
DESCRIPTION:For tickets and more Cro-dates check https://www.cro.de/dates/
LOCATION:USINA FESTIVAL\, DUDELANGE\, Luxembourg
END:VEVENT
END:VCALENDAR
