BEGIN:VCALENDAR
VERSION:2.0
PRODID:-//Cro//NONSGML Cro//EN
METHOD:PUBLISH
BEGIN:VEVENT
UID:20260422T101830Z-1857588169-www.cro.de
URL:https://www.cro.de/dates/cro-dates-2372023-de-fuessen-barockg-7--66-.html
DTSTAMP:20260422T101830Z
DTSTART:20230723T193000Z
DTEND:20230723T193000Z
SUMMARY:CRO | Dates | 23.7.2023 (DE) Füssen\, Barockgarten am Festspielhaus Neuschwanstein
DESCRIPTION:For tickets and more Cro-dates check https://www.cro.de/dates/
LOCATION:Barockgarten am Festspielhaus Neuschwanstein\, Füssen\, Germany
END:VEVENT
END:VCALENDAR
